BEGIN:VCALENDAR
VERSION:2.0
PRODID:-//Tiffield &amp; Caldecote Parish Council - ECPv6.15.20//NONSGML v1.0//EN
CALSCALE:GREGORIAN
METHOD:PUBLISH
X-ORIGINAL-URL:https://tiffieldparishcouncil.gov.uk
X-WR-CALDESC:Events for Tiffield &amp; Caldecote Parish Council
REFRESH-INTERVAL;VALUE=DURATION:PT1H
X-Robots-Tag:noindex
X-PUBLISHED-TTL:PT1H
BEGIN:VTIMEZONE
TZID:UTC
BEGIN:STANDARD
TZOFFSETFROM:+0000
TZOFFSETTO:+0000
TZNAME:UTC
DTSTART:20230101T000000
END:STANDARD
END:VTIMEZONE
BEGIN:VEVENT
DTSTART;TZID=UTC:20240311T200000
DTEND;TZID=UTC:20240311T220000
DTSTAMP:20260421T160215
CREATED:20240213T120127Z
LAST-MODIFIED:20240213T120324Z
UID:72241-1710187200-1710194400@tiffieldparishcouncil.gov.uk
SUMMARY:Tiffield Parish Council meetings
DESCRIPTION:This is the date of the March 2024 parish council meeting which will be held in the school hall. \nAll are welcome
URL:https://tiffieldparishcouncil.gov.uk/event/tiffield-parish-council-meetings/
LOCATION:Tiffield Primary School\, High Street South\, Tiffield\, Northamptonshire\, NN12 8AB\, United Kingdom
CATEGORIES:Council Meetings
ORGANIZER;CN="Clerk":MAILTO:clerk@tiffieldparishcouncil.gov.uk
END:VEVENT
END:VCALENDAR