BEGIN:VCALENDAR
VERSION:2.0
PRODID:-//Tiffield &amp; Caldecote Parish Council//Meeting Calendar//EN
CALSCALE:GREGORIAN
METHOD:PUBLISH
BEGIN:VEVENT
UID:72795-20250609@tiffieldparishcouncil.gov.uk
DTSTAMP:20260424T082507Z
DTSTART;VALUE=DATE:20250609
DTEND;VALUE=DATE:20250610
SUMMARY:Tiffield &#038\\; Caldecote Parish Council meeting &#8211\\; 9th June 2025
DESCRIPTION:Full Council Meeting\nView details: https://tiffieldparishcouncil.gov.uk/meetings/tiffield-caldecote-parish-council-meeting-9th-june-2025/
URL:https://tiffieldparishcouncil.gov.uk/meetings/tiffield-caldecote-parish-council-meeting-9th-june-2025/
END:VEVENT
END:VCALENDAR
