BEGIN:VCALENDAR
VERSION:2.0
PRODID:-//Tiffield &amp; Caldecote Parish Council//Meeting Calendar//EN
CALSCALE:GREGORIAN
METHOD:PUBLISH
BEGIN:VEVENT
UID:72520-20241014@tiffieldparishcouncil.gov.uk
DTSTAMP:20260422T084400Z
DTSTART;VALUE=DATE:20241014
DTEND;VALUE=DATE:20241015
SUMMARY:Tiffield Parish Council meeting 14th October 2024
DESCRIPTION:Full Council Meeting\nView details: https://tiffieldparishcouncil.gov.uk/meetings/tiffield-parish-council-meeting-14th-october-2024/
URL:https://tiffieldparishcouncil.gov.uk/meetings/tiffield-parish-council-meeting-14th-october-2024/
END:VEVENT
END:VCALENDAR
