BEGIN:VCALENDAR
VERSION:2.0
PRODID:-//Tiffield &amp; Caldecote Parish Council//Meeting Calendar//EN
CALSCALE:GREGORIAN
METHOD:PUBLISH
BEGIN:VEVENT
UID:72199-20230911@tiffieldparishcouncil.gov.uk
DTSTAMP:20260422T082635Z
DTSTART;VALUE=DATE:20230911
DTEND;VALUE=DATE:20230912
SUMMARY:Full Council Meeting &#8211\\; 11th September 2023
DESCRIPTION:Full Council Meeting\nView details: https://tiffieldparishcouncil.gov.uk/meetings/full-council-meeting-11th-september-2023/
URL:https://tiffieldparishcouncil.gov.uk/meetings/full-council-meeting-11th-september-2023/
END:VEVENT
END:VCALENDAR
