BEGIN:VCALENDAR
VERSION:2.0
PRODID:-//Tiffield &amp; Caldecote Parish Council//Meeting Calendar//EN
CALSCALE:GREGORIAN
METHOD:PUBLISH
BEGIN:VEVENT
UID:72195-20230717@tiffieldparishcouncil.gov.uk
DTSTAMP:20260424T083150Z
DTSTART;VALUE=DATE:20230717
DTEND;VALUE=DATE:20230718
SUMMARY:Full Council Meeting &#8211\\; 17th July 2023
DESCRIPTION:Full Council Meeting\nView details: https://tiffieldparishcouncil.gov.uk/meetings/full-council-meeting-17th-june-2023/
URL:https://tiffieldparishcouncil.gov.uk/meetings/full-council-meeting-17th-june-2023/
END:VEVENT
END:VCALENDAR
