BEGIN:VCALENDAR
VERSION:2.0
PRODID:-//Tiffield &amp; Caldecote Parish Council//Meeting Calendar//EN
CALSCALE:GREGORIAN
METHOD:PUBLISH
BEGIN:VEVENT
UID:72187-20230509@tiffieldparishcouncil.gov.uk
DTSTAMP:20260423T082854Z
DTSTART;VALUE=DATE:20230509
DTEND;VALUE=DATE:20230510
SUMMARY:Full Council Meeting &#8211\\; 9th May 2023
DESCRIPTION:Full Council Meeting\nView details: https://tiffieldparishcouncil.gov.uk/meetings/full-council-meeting-9th-may-2023/
URL:https://tiffieldparishcouncil.gov.uk/meetings/full-council-meeting-9th-may-2023/
END:VEVENT
END:VCALENDAR
