BEGIN:VCALENDAR
VERSION:2.0
PRODID:-//Tiffield &amp; Caldecote Parish Council//Meeting Calendar//EN
CALSCALE:GREGORIAN
METHOD:PUBLISH
BEGIN:VEVENT
UID:70827-20230221@tiffieldparishcouncil.gov.uk
DTSTAMP:20260421T084458Z
DTSTART;VALUE=DATE:20230221
DTEND;VALUE=DATE:20230222
SUMMARY:Full Council Meeting &#8211\\; 21st February 2023
DESCRIPTION:Full Council Meeting\nView details: https://tiffieldparishcouncil.gov.uk/meetings/approved-minutes-for-tiffield-parish-council-meeting-21st-february-2023/
URL:https://tiffieldparishcouncil.gov.uk/meetings/approved-minutes-for-tiffield-parish-council-meeting-21st-february-2023/
END:VEVENT
END:VCALENDAR
