BEGIN:VCALENDAR
VERSION:2.0
PRODID:-//Tiffield &amp; Caldecote Parish Council//Meeting Calendar//EN
CALSCALE:GREGORIAN
METHOD:PUBLISH
BEGIN:VEVENT
UID:70779-20220509@tiffieldparishcouncil.gov.uk
DTSTAMP:20260419T150701Z
DTSTART;VALUE=DATE:20220509
DTEND;VALUE=DATE:20220510
SUMMARY:Full Council Meeting &#8211\\; 9th May 2022
DESCRIPTION:Full Council Meeting\nView details: https://tiffieldparishcouncil.gov.uk/meetings/approved-minutes-for-tiffield-parish-council-meeting-9th-may-2022/
URL:https://tiffieldparishcouncil.gov.uk/meetings/approved-minutes-for-tiffield-parish-council-meeting-9th-may-2022/
END:VEVENT
END:VCALENDAR
