BEGIN:VCALENDAR
VERSION:2.0
PRODID:-//Tiffield &amp; Caldecote Parish Council//Meeting Calendar//EN
CALSCALE:GREGORIAN
METHOD:PUBLISH
BEGIN:VEVENT
UID:70773-20220411@tiffieldparishcouncil.gov.uk
DTSTAMP:20260421T084459Z
DTSTART;VALUE=DATE:20220411
DTEND;VALUE=DATE:20220412
SUMMARY:Full Council Meeting  &#8211\\; 11th April 2022
DESCRIPTION:Full Council Meeting\nView details: https://tiffieldparishcouncil.gov.uk/meetings/approved-minutes-for-tiffield-parish-annual-meeting-11th-april-2022/
URL:https://tiffieldparishcouncil.gov.uk/meetings/approved-minutes-for-tiffield-parish-annual-meeting-11th-april-2022/
END:VEVENT
END:VCALENDAR
