BEGIN:VCALENDAR
VERSION:2.0
PRODID:-//Tiffield &amp; Caldecote Parish Council//Meeting Calendar//EN
CALSCALE:GREGORIAN
METHOD:PUBLISH
BEGIN:VEVENT
UID:70748-20220216@tiffieldparishcouncil.gov.uk
DTSTAMP:20260421T134150Z
DTSTART;VALUE=DATE:20220216
DTEND;VALUE=DATE:20220217
SUMMARY:Full Council Meeting &#8211\\; 16th February 2022
DESCRIPTION:Full Council Meeting\nView details: https://tiffieldparishcouncil.gov.uk/meetings/approved-minutes-for-tiffield-parish-council-meeting-16th-february-2022/
URL:https://tiffieldparishcouncil.gov.uk/meetings/approved-minutes-for-tiffield-parish-council-meeting-16th-february-2022/
END:VEVENT
END:VCALENDAR
