BEGIN:VCALENDAR
VERSION:2.0
PRODID:-//Tiffield &amp; Caldecote Parish Council//Meeting Calendar//EN
CALSCALE:GREGORIAN
METHOD:PUBLISH
BEGIN:VEVENT
UID:70732-20211108@tiffieldparishcouncil.gov.uk
DTSTAMP:20260423T082841Z
DTSTART;VALUE=DATE:20211108
DTEND;VALUE=DATE:20211109
SUMMARY:Full Council Meeting &#8211\\; 8th November 2021
DESCRIPTION:Full Council Meeting\nView details: https://tiffieldparishcouncil.gov.uk/meetings/approved-minutes-for-tiffield-parish-council-meeting-held-on-8th-november-2021/
URL:https://tiffieldparishcouncil.gov.uk/meetings/approved-minutes-for-tiffield-parish-council-meeting-held-on-8th-november-2021/
END:VEVENT
END:VCALENDAR
