BEGIN:VCALENDAR
VERSION:2.0
PRODID:-//Tiffield &amp; Caldecote Parish Council//Meeting Calendar//EN
CALSCALE:GREGORIAN
METHOD:PUBLISH
BEGIN:VEVENT
UID:70647-20210308@tiffieldparishcouncil.gov.uk
DTSTAMP:20260423T082904Z
DTSTART;VALUE=DATE:20210308
DTEND;VALUE=DATE:20210309
SUMMARY:Full Council Meeting &#8211\\; 8th March 2021
DESCRIPTION:Full Council Meeting\nView details: https://tiffieldparishcouncil.gov.uk/meetings/approved-minutes-for-parish-council-meeting-8th-march-2021/
URL:https://tiffieldparishcouncil.gov.uk/meetings/approved-minutes-for-parish-council-meeting-8th-march-2021/
END:VEVENT
END:VCALENDAR
