BEGIN:VCALENDAR
VERSION:2.0
PRODID:-//Tiffield &amp; Caldecote Parish Council//Meeting Calendar//EN
CALSCALE:GREGORIAN
METHOD:PUBLISH
BEGIN:VEVENT
UID:70547-20190311@tiffieldparishcouncil.gov.uk
DTSTAMP:20260423T082841Z
DTSTART;VALUE=DATE:20190311
DTEND;VALUE=DATE:20190312
SUMMARY:Full Council Meeting &#8211\\; 11th March 2019
DESCRIPTION:Full Council Meeting\nView details: https://tiffieldparishcouncil.gov.uk/meetings/approved-minutes-for-parish-council-meeting-11th-march-2019/
URL:https://tiffieldparishcouncil.gov.uk/meetings/approved-minutes-for-parish-council-meeting-11th-march-2019/
END:VEVENT
END:VCALENDAR
