BEGIN:VCALENDAR
VERSION:2.0
PRODID:-//Tiffield &amp; Caldecote Parish Council//Meeting Calendar//EN
CALSCALE:GREGORIAN
METHOD:PUBLISH
BEGIN:VEVENT
UID:70465-20190610@tiffieldparishcouncil.gov.uk
DTSTAMP:20260421T084457Z
DTSTART;VALUE=DATE:20190610
DTEND;VALUE=DATE:20190611
SUMMARY:Full Council Meeting &#8211\\; 10 June 2019
DESCRIPTION:Full Council Meeting\nView details: https://tiffieldparishcouncil.gov.uk/meetings/confirmed-minutes-from-tiffield-parish-annual-meeting-10-june-2019/
URL:https://tiffieldparishcouncil.gov.uk/meetings/confirmed-minutes-from-tiffield-parish-annual-meeting-10-june-2019/
END:VEVENT
END:VCALENDAR
